BEGIN:VCALENDAR
VERSION:2.0
PRODID:-//eventon.com NONSGML v1.0//EN
CALSCALE:GREGORIAN
METHOD:PUBLISH
BEGIN:VEVENT
UID:69ec9b2b66a00
DTSTAMP:20260425T104459Z
DTSTART:20221111T183000Z
DTEND:20221111T225000Z
LOCATION:DOCK 04. Villacher StraÃŸe 16-18\,  9020 Klagenfurt
SUMMARY:Tobacco Road Blues Band
DESCRIPTION:Die TRBB gibt es seit 2013\,  wobei die Musiker rund um die GrÃ
 ¼ndungsmitglieder Mike Diwald und Peter Prammerdorfer als typische Blues-Co
 verband begonnen haben. Irgendwann reichte den Bluesern das reine Nachspiel
 en der Blueshits von Clapton\,  King\,  Johnson und Co. einfach nicht mehr 
 und so wurden kurzerhand eigene Songs verfasst. Die erste[..]\nhttps://www.
 hafenstadt.at/events/tobacco-road-blues-band/
URL:https://www.hafenstadt.at/events/tobacco-road-blues-band/
END:VEVENT
END:VCALENDAR