BEGIN:VCALENDAR
VERSION:2.0
PRODID:-//eventon.com NONSGML v1.0//EN
CALSCALE:GREGORIAN
METHOD:PUBLISH
BEGIN:VEVENT
UID:69e6bace8082c
DTSTAMP:20260420T234622Z
DTSTART:20240405T180000Z
DTEND:20240405T215000Z
LOCATION:DOCK 04. Villacher Straße 16-18\,  9020 Klagenfurt
SUMMARY:Hansi & the Gretels
DESCRIPTION:Nach ihrem Auftritt beim Acoustic Lakeside Festival 2022 und ei
 nigen anderen Unplugged-Konzerten stehen Hansi &amp; the Gretels wieder vol
 l unter Strom! Die Kärntner Band liefert ihren ganz eigenen erdigen und eh
 rlichen Indie-Alternative-Rock\,  ohne Berührungsängste zu Punk\,  Folk\,
   Schnulze oder Polka. Mutig wagt sich Hansi Rainer mit seinen Gretels tief
  hinein[..]\nhttps://www.hafenstadt.at/events/hansi-the-gretels/
URL:https://www.hafenstadt.at/events/hansi-the-gretels/
END:VEVENT
END:VCALENDAR