BEGIN:VCALENDAR
VERSION:2.0
PRODID:-//eventon.com NONSGML v1.0//EN
CALSCALE:GREGORIAN
METHOD:PUBLISH
BEGIN:VEVENT
UID:69e744fa0af8c
DTSTAMP:20260421T093554Z
DTSTART:20250418T190000Z
DTEND:20250418T215900Z
LOCATION:DOCK 04. Villacher Straße 16-18\,  9020 Klagenfurt
SUMMARY:Bunny Beats & Indie Treats
DESCRIPTION:Easter Warm Up. Indie- und Rock-Special. Mit DJ Roman Misc. EIN
 TRITT FREI.\nhttps://www.hafenstadt.at/events/bunny-beats-indie-treats/
URL:https://www.hafenstadt.at/events/bunny-beats-indie-treats/
END:VEVENT
END:VCALENDAR