BEGIN:VCALENDAR
VERSION:2.0
PRODID:-//eventon.com NONSGML v1.0//EN
CALSCALE:GREGORIAN
METHOD:PUBLISH
BEGIN:VEVENT
UID:69eb5e7026fac
DTSTAMP:20260424T121336Z
DTSTART:20260404T190000Z
DTEND:20260404T215900Z
LOCATION:DOCK 04. Villacher Straße 16-18\,  9020 Klagenfurt
SUMMARY:The Art of D!sco
DESCRIPTION:Eine Hommage an die Zeit gepflegten Glamours. Die Discothek als
  Kunstform zwischen Kitsch und Kult. Das Theater auf DOCK04 als Ort der Mus
 ik\,  des Vergnügens sowie Anbahnung und Pflege sozialer Kontakte. Disco i
 s not gone. It’s just asking for reinvention. Every Saturday. Eintritt fr
 ei. INFOS\nhttps://www.hafenstadt.at/events/the-art-of-dsco-3/var/ri-25.l-L
 1
URL:https://www.hafenstadt.at/events/the-art-of-dsco-3/var/ri-25.l-L1
END:VEVENT
END:VCALENDAR