BEGIN:VCALENDAR
VERSION:2.0
PRODID:-//eventon.com NONSGML v1.0//EN
CALSCALE:GREGORIAN
METHOD:PUBLISH
BEGIN:VEVENT
UID:69e744fa040e9
DTSTAMP:20260421T093554Z
DTSTART:20260423T170000Z
DTEND:20260423T215900Z
LOCATION:DOCK 04. Villacher Straße 16-18\,  9020 Klagenfurt
SUMMARY:Wiener Alltagspoeten
DESCRIPTION:Wiener Alltagspoet kommt nach Klagenfurt! Seit einigen Jahren s
 ammelt der Wiener Alltagspoet Andreas Rainer Zitate\,  Situationen und Skur
 rilitäten aus dem Wiener Alltag. Sein Blick in der Stadt der großen Bühn
 en richtet sich vor allem auf die kleinen Gassen\,  Kaffeehäuser\,  U-Bahn
 stationen und Supermärkte\,  in denen sich tagtäglich Komödie und Tragö
 die die[..]\nhttps://www.hafenstadt.at/events/wiener-alltagspoeten-2/
URL:https://www.hafenstadt.at/events/wiener-alltagspoeten-2/
END:VEVENT
END:VCALENDAR