BEGIN:VCALENDAR
VERSION:2.0
PRODID:-//eventon.com NONSGML v1.0//EN
CALSCALE:GREGORIAN
METHOD:PUBLISH
BEGIN:VEVENT
UID:69eb43de17210
DTSTAMP:20260424T102014Z
DTSTART:20260424T180000Z
DTEND:20260424T215900Z
LOCATION:DOCK 04. Villacher Straße 16-18\,  9020 Klagenfurt
SUMMARY:Velvet Wasted // Flavor Amp
DESCRIPTION:Velvet Wasted steht für energiegeladenen Indie-Rock zwischen 
 melancholischer Tiefe und euphorischer Intensität. Der Sound verbindet den
  Vibe der frühen 2000er mit moderner Indie-Ästhetik und authentischem Son
 gwriting. Seit ihrer Gründung 2020 spielte die Grazer Band zahlreiche Show
 s in Österreich und darüber hinaus\,  stand u. a. mit internationalen Act
 s wie Ida Mae und[..]\nhttps://www.hafenstadt.at/events/velvet-wasted-flavo
 r-amp/
URL:https://www.hafenstadt.at/events/velvet-wasted-flavor-amp/
END:VEVENT
END:VCALENDAR