BEGIN:VCALENDAR
VERSION:2.0
PRODID:-//eventon.com NONSGML v1.0//EN
CALSCALE:GREGORIAN
METHOD:PUBLISH
BEGIN:VEVENT
UID:69eb43bff205d
DTSTAMP:20260424T101943Z
DTSTART:20260424T130000Z
DTEND:20260424T215900Z
LOCATION:HafenPark Villacher Str. 16
SUMMARY:BBQ SEASON KICK-OFF
DESCRIPTION:BBQ SEASON KICK-OFF Grill-Workshop im Park 24.04. &amp; 25.04.2
 026 Lust auf Rauch\,  Flammen und richtiges Grillgut/es? In diesem rund 4-s
 tündigen Workshop zeigt unser Küchenchef Lukas\,  wie man Fleisch\,  Fisc
 higes und kreative Beilagen perfekt auf den Rost bringt – vom Marinieren 
 bis zum letzten Biss. Ein Event voller Aroma\,  Sommerfeeling und[..]\nhttp
 s://www.hafenstadt.at/events/bbq-season-kick-off/
URL:https://www.hafenstadt.at/events/bbq-season-kick-off/
END:VEVENT
END:VCALENDAR