BEGIN:VCALENDAR
VERSION:2.0
PRODID:-//eventon.com NONSGML v1.0//EN
CALSCALE:GREGORIAN
METHOD:PUBLISH
BEGIN:VEVENT
UID:69e7452e83fa2
DTSTAMP:20260421T093646Z
DTSTART:20260316T190000Z
DTEND:20260316T225900Z
LOCATION:DOCK 04. Villacher Straße 16-18\,  9020 Klagenfurt
SUMMARY:Movie Monday
DESCRIPTION:MO | 16. MÄRZ 2026 FILMABEND. Filmabstimmung über WhatsApp Ch
 annel. Eintritt frei.\nhttps://www.hafenstadt.at/events/movie-night-3/
URL:https://www.hafenstadt.at/events/movie-night-3/
END:VEVENT
END:VCALENDAR