BEGIN:VCALENDAR
VERSION:2.0
PRODID:-//eventon.com NONSGML v1.0//EN
CALSCALE:GREGORIAN
METHOD:PUBLISH
BEGIN:VEVENT
UID:69e730aca53b5
DTSTAMP:20260421T080916Z
DTSTART:20260317T174500Z
DTEND:20260317T225900Z
LOCATION:DOCK 04. Villacher Straße 16-18\,  9020 Klagenfurt
SUMMARY:Champions League
DESCRIPTION:Die besten Fußball-Vereinsmannschaften. Live Übertragen. Im D
 OCK04_THEATER. Eintritt frei.\nhttps://www.hafenstadt.at/events/champions-l
 eague-45/
URL:https://www.hafenstadt.at/events/champions-league-45/
END:VEVENT
END:VCALENDAR