BEGIN:VCALENDAR
VERSION:2.0
PRODID:-//eventon.com NONSGML v1.0//EN
CALSCALE:GREGORIAN
METHOD:PUBLISH
BEGIN:VEVENT
UID:69e745290edbc
DTSTAMP:20260421T093641Z
DTSTART:20260421T180000Z
DTEND:20260421T215900Z
LOCATION:DOCK 04. Villacher Straße 16-18\,  9020 Klagenfurt
SUMMARY:Salon Lendhafen
DESCRIPTION:Salon Lendhafen Thema: „Eine Achse\,  drei Mentalitäten“ 
 – Wien\,  Graz\,  Klagenfurt im Vergleich  Was können diese Städte v
 oneinander lernen – und was ganz bewusst nicht? Infos zum Salon &nbsp; DO
 CK04_THEATER. | 19 UHR. Moderation: Michael Pontasch. Eintritt frei.\nhttps
 ://www.hafenstadt.at/events/salon-lendhafen-15/
URL:https://www.hafenstadt.at/events/salon-lendhafen-15/
END:VEVENT
END:VCALENDAR