BEGIN:VCALENDAR
VERSION:2.0
PRODID:-//eventon.com NONSGML v1.0//EN
CALSCALE:GREGORIAN
METHOD:PUBLISH
BEGIN:VEVENT
UID:69ec9621eaa84
DTSTAMP:20260425T102329Z
DTSTART:20260425T170000Z
DTEND:20260425T215900Z
LOCATION:DOCK 06. Villacher Straße 16-18\,  9020 Klagenfurt
SUMMARY:Matthew Dylan „TheYogiMatt“
DESCRIPTION:Wohnzimmerkonzert mit Matthew Dylan in der le Garage. Matthew D
 ylans gefühlvolle Rock-Stimme\,  akustische Blues-Gitarre und Songwriting 
 im Nashville-Stil verbinden sich zu einer kraftvollen\,  mitreißenden Misc
 hung. Seine Live-Auftritte sind leidenschaftlich\,  fesselnd und unterhalts
 am. Als Songwriter veröffentlicht Matthew Dylan eigene Musik\,  schreibt m
 it anderen Künstler:innen und ist Teil der beliebten Nashville-Songwriting
 -Community Song[..]\nhttps://www.hafenstadt.at/events/matthew-dylan-theyogi
 matt/
URL:https://www.hafenstadt.at/events/matthew-dylan-theyogimatt/
END:VEVENT
END:VCALENDAR