BEGIN:VCALENDAR
VERSION:2.0
PRODID:-//eventon.com NONSGML v1.0//EN
CALSCALE:GREGORIAN
METHOD:PUBLISH
BEGIN:VEVENT
UID:69e7452ef3c6d
DTSTAMP:20260421T093646Z
DTSTART:20260422T180000Z
DTEND:20260422T215900Z
LOCATION:DOCK 04. Villacher Straße 16-18\,  9020 Klagenfurt
SUMMARY:Kunst gegen Bares
DESCRIPTION:MUSIK. COMEDY. ZAUBEREI. POETRY.AND.MORE. 10 Minuten Bühne. 10
 0 % Kunst. Cash ist Applaus.   Sechs Acts. Ein Abend. Keine Jury. Kunst g
 egen Bares ist ein Live-Format\,  bei dem Künstler:innen aus unterschiedl
 ichsten Genres auftreten– direkt\,  ehrlich und ohne Filter. Moderiert wi
 rd der Abend von Jakob Schmidt-Russnak. Eintritt frei. Alle Infos\nhttps:/
 /www.hafenstadt.at/events/kunst-gegen-bares-2/
URL:https://www.hafenstadt.at/events/kunst-gegen-bares-2/
END:VEVENT
END:VCALENDAR